BEGIN:VCALENDAR
VERSION:2.0
PRODID:-//hacksw/handcal//NONSGML v1.0//EN
BEGIN:VEVENT
SUMMARY:SAINT CYR BASKET HERBIGNAC - 2 (5)
UID:958fd8c0-e417-4427-9a04-c33becb8188a
DTSTART:20260425T160000Z
DTEND:20260425T210000Z
LOCATION:Localisation   
CATEGORIES:Sportif
STATUS:
URL;VALUE=URI:https://cspretzbasket.sportsregions.fr/evenements/2026/04/25/saint-cyr-basket-herbignac-2-5-2443235
END:VEVENT
END:VCALENDAR
