BEGIN:VCALENDAR
VERSION:2.0
PRODID:-//hacksw/handcal//NONSGML v1.0//EN
BEGIN:VEVENT
SUMMARY:U13F CSP RETZ BASKET (3)
UID:03a483ec-ccc2-4cc2-bcc1-3ffdee7d77db
DTSTART:20260425T140000Z
DTEND:20260425T210000Z
LOCATION:Localisation   
CATEGORIES:Sportif
STATUS:
URL;VALUE=URI:https://cspretzbasket.sportsregions.fr/evenements/2026/04/25/u13f-csp-retz-basket-3-2443241
END:VEVENT
END:VCALENDAR
