BEGIN:VCALENDAR
VERSION:2.0
PRODID:-//hacksw/handcal//NONSGML v1.0//EN
BEGIN:VEVENT
SUMMARY:U9F CSP RETZ BASKET
UID:63f13315-1afd-495b-8d7b-6d27e5cab01a
DTSTART:20260425T113000Z
DTEND:20260425T210000Z
LOCATION:Localisation   
CATEGORIES:Sportif
STATUS:
URL;VALUE=URI:https://cspretzbasket.sportsregions.fr/evenements/2026/04/25/u9f-csp-retz-basket-2443239
END:VEVENT
END:VCALENDAR
