BEGIN:VCALENDAR
VERSION:2.0
PRODID:-//hacksw/handcal//NONSGML v1.0//EN
BEGIN:VEVENT
SUMMARY:Union Sportive de Basket de Frossay et Saint-Viaud - 2 (5)
UID:99dc6eb5-752c-4d0e-8890-c541b474cc15
DTSTART:20260425T120000Z
DTEND:20260425T210000Z
LOCATION:Localisation   
CATEGORIES:Sportif
STATUS:
URL;VALUE=URI:https://cspretzbasket.sportsregions.fr/evenements/2026/04/25/union-sportive-de-basket-de-frossay-et-saint-viaud-2-5-2443236
END:VEVENT
END:VCALENDAR
