BEGIN:VCALENDAR
VERSION:2.0
PRODID:-//hacksw/handcal//NONSGML v1.0//EN
BEGIN:VEVENT
SUMMARY:DF2 CSP RETZ BASKET (3)
UID:a8566632-c375-4f89-90da-37fa84f6b27b
DTSTART:20260426T133000Z
DTEND:20260426T210000Z
LOCATION:Localisation   
CATEGORIES:Sportif
STATUS:
URL;VALUE=URI:https://cspretzbasket.sportsregions.fr/evenements/2026/04/26/df2-csp-retz-basket-3-2443238
END:VEVENT
END:VCALENDAR
