BEGIN:VCALENDAR
VERSION:2.0
PRODID:-//hacksw/handcal//NONSGML v1.0//EN
BEGIN:VEVENT
SUMMARY:DM3 CSP RETZ BASKET (3)
UID:975977f9-183f-4a67-895a-6c74a588ecdb
DTSTART:20260426T154500Z
DTEND:20260426T210000Z
LOCATION:Localisation   
CATEGORIES:Sportif
STATUS:
URL;VALUE=URI:https://cspretzbasket.sportsregions.fr/evenements/2026/04/26/dm3-csp-retz-basket-3-2443237
END:VEVENT
END:VCALENDAR
