BEGIN:VCALENDAR
VERSION:2.0
PRODID:-//hacksw/handcal//NONSGML v1.0//EN
BEGIN:VEVENT
SUMMARY:U18F CSP RETZ BASKET (6)
UID:ef4f1016-d2e2-40aa-ad43-598d355808a9
DTSTART:20260426T111500Z
DTEND:20260426T210000Z
LOCATION:Localisation   
CATEGORIES:Sportif
STATUS:
URL;VALUE=URI:https://cspretzbasket.sportsregions.fr/evenements/2026/04/26/u18f-csp-retz-basket-6-2443240
END:VEVENT
END:VCALENDAR
